BEGIN:VCALENDAR
VERSION:2.0
PRODID:-//egu.eu//General meeting calendar//EN
CALSCALE:GREGORIAN
METHOD:PUBLISH
X-WR-CALDESC:Meetings\, conferences and workshops that may be of general i
 nterest.
X-WR-CALNAME:General meeting calendar
X-WR-TIMEZONE:UTC
BEGIN:VEVENT
SUMMARY:2026 Ada Lovelace Workshop on Mantle and Lithosphere Dynamics
DTSTART;VALUE=DATE:20260621
DTEND;VALUE=DATE:20260627
DTSTAMP:20260423T231841Z
UID:general-meeting-calendar-2183@egu.eu
CATEGORIES:
CREATED:20250707T115801Z
LAST-MODIFIED:20260203T225132Z
LOCATION:Lake Seč\, Czech Republic
URL:https://geo.mff.cuni.cz/alw2026/
END:VEVENT
END:VCALENDAR
