BEGIN:VCALENDAR
VERSION:2.0
PRODID:-//egu.eu//General meeting calendar//EN
CALSCALE:GREGORIAN
METHOD:PUBLISH
X-WR-CALDESC:Meetings\, conferences and workshops that may be of general i
 nterest.
X-WR-CALNAME:General meeting calendar
X-WR-TIMEZONE:UTC
BEGIN:VEVENT
SUMMARY:ICSD 2026 : 14th International Conference on Sustainable Developme
 nt Rome\, Italy
DTSTART;VALUE=DATE:20260909
DTEND;VALUE=DATE:20260911
DTSTAMP:20260424T102705Z
UID:general-meeting-calendar-2184@egu.eu
CATEGORIES:
CREATED:20250708T180524Z
DESCRIPTION:Abstract deadline: 2026-07-16
LAST-MODIFIED:20250709T064552Z
LOCATION:Roma Eventi Congres Center Pontifical Gregorian University of Rom
 e\, italy
URL:https://ecsdev.org/conference/14th-icsd-2026
END:VEVENT
END:VCALENDAR
