BEGIN:VCALENDAR
VERSION:2.0
PRODID:-//egu.eu//General meeting calendar//EN
CALSCALE:GREGORIAN
METHOD:PUBLISH
X-WR-CALDESC:Meetings\, conferences and workshops that may be of general i
 nterest.
X-WR-CALNAME:General meeting calendar
X-WR-TIMEZONE:UTC
BEGIN:VEVENT
SUMMARY:Seismic Anisotropy\, Heterogeneity and Dynamics of the Lithosphere
 -Asthenosphere System
DTSTART;VALUE=DATE:20260525
DTEND;VALUE=DATE:20260530
DTSTAMP:20260423T231841Z
UID:general-meeting-calendar-2292@egu.eu
CATEGORIES:
CREATED:20251001T133509Z
DESCRIPTION:Abstract deadline: 2026-03-25
LAST-MODIFIED:20251001T134505Z
LOCATION:Chateaux Liblice\, Czech Republic
URL:https://www.ig.cas.cz/en/international-workshop-seismic-anisotropy-het
 erogeneity-and-dynamics-of-the-lithosphere-asthenosphere-system/
END:VEVENT
END:VCALENDAR
