BEGIN:VCALENDAR
VERSION:2.0
PRODID:-//egu.eu//General meeting calendar//EN
CALSCALE:GREGORIAN
METHOD:PUBLISH
X-WR-CALDESC:Meetings\, conferences and workshops that may be of general i
 nterest.
X-WR-CALNAME:General meeting calendar
X-WR-TIMEZONE:UTC
BEGIN:VEVENT
SUMMARY:Karthaus Summer School 2026
DTSTART;VALUE=DATE:20260519
DTEND;VALUE=DATE:20260529
DTSTAMP:20260425T202143Z
UID:general-meeting-calendar-2362@egu.eu
CATEGORIES:
CREATED:20251113T164422Z
LAST-MODIFIED:20251114T090343Z
LOCATION:Karthaus\, Italy
URL:http://www.projects.science.uu.nl/iceclimate/karthaus/
END:VEVENT
END:VCALENDAR
