BEGIN:VCALENDAR
VERSION:2.0
PRODID:-//egu.eu//General meeting calendar//EN
CALSCALE:GREGORIAN
METHOD:PUBLISH
X-WR-CALDESC:Meetings\, conferences and workshops that may be of general i
 nterest.
X-WR-CALNAME:General meeting calendar
X-WR-TIMEZONE:UTC
BEGIN:VEVENT
SUMMARY:Amsterdam Complexity School on Climate Change
DTSTART;VALUE=DATE:20260427
DTEND;VALUE=DATE:20260502
DTSTAMP:20260424T102622Z
UID:general-meeting-calendar-2364@egu.eu
CATEGORIES:
CREATED:20251119T083453Z
DESCRIPTION:Abstract deadline: 2026-01-19
LAST-MODIFIED:20251119T090452Z
LOCATION:Amsterdam
URL:https://acscc.nl/
END:VEVENT
END:VCALENDAR
