BEGIN:VCALENDAR
VERSION:2.0
PRODID:-//egu.eu//General meeting calendar//EN
CALSCALE:GREGORIAN
METHOD:PUBLISH
X-WR-CALDESC:Meetings\, conferences and workshops that may be of general i
 nterest.
X-WR-CALNAME:General meeting calendar
X-WR-TIMEZONE:UTC
BEGIN:VEVENT
SUMMARY:MedCLIVAR 2026 Conference
DTSTART;VALUE=DATE:20260921
DTEND;VALUE=DATE:20260926
DTSTAMP:20260424T102704Z
UID:general-meeting-calendar-2365@egu.eu
CATEGORIES:
CREATED:20251120T101042Z
DESCRIPTION:Abstract deadline: 2026-05-10
LAST-MODIFIED:20260406T170820Z
LOCATION:Limassol\, Cyprus
URL:https://medclivar2026.eu/
END:VEVENT
END:VCALENDAR
