BEGIN:VCALENDAR
VERSION:2.0
PRODID:-//egu.eu//General meeting calendar//EN
CALSCALE:GREGORIAN
METHOD:PUBLISH
X-WR-CALDESC:Meetings\, conferences and workshops that may be of general i
 nterest.
X-WR-CALNAME:General meeting calendar
X-WR-TIMEZONE:UTC
BEGIN:VEVENT
SUMMARY:Organic Phosphorus Workshop 2026
DTSTART;VALUE=DATE:20260713
DTEND;VALUE=DATE:20260718
DTSTAMP:20260424T102704Z
UID:general-meeting-calendar-2369@egu.eu
CATEGORIES:
CREATED:20251205T163311Z
DESCRIPTION:Abstract deadline: 2026-04-04
LAST-MODIFIED:20251205T164757Z
LOCATION:Charlottetown\, Prince Edward Island\, Canada
URL:https://op2026.com/
END:VEVENT
END:VCALENDAR
