BEGIN:VCALENDAR
VERSION:2.0
PRODID:-//egu.eu//General meeting calendar//EN
CALSCALE:GREGORIAN
METHOD:PUBLISH
X-WR-CALDESC:Meetings\, conferences and workshops that may be of general i
 nterest.
X-WR-CALNAME:General meeting calendar
X-WR-TIMEZONE:UTC
BEGIN:VEVENT
SUMMARY:Shaking Boundaries: Environmental Seismology Across Disciplines an
 d Methods
DTSTART;VALUE=DATE:20260609
DTEND;VALUE=DATE:20260613
DTSTAMP:20260423T231944Z
UID:general-meeting-calendar-2371@egu.eu
CATEGORIES:
CREATED:20251209T145042Z
DESCRIPTION:Abstract deadline: 2026-03-06
LAST-MODIFIED:20251209T151321Z
LOCATION:Kiel\, Germany
URL:https://www.envseis.eu/envseis-conference-2026
END:VEVENT
END:VCALENDAR
