BEGIN:VCALENDAR
VERSION:2.0
PRODID:-//egu.eu//General meeting calendar//EN
CALSCALE:GREGORIAN
METHOD:PUBLISH
X-WR-CALDESC:Meetings\, conferences and workshops that may be of general i
 nterest.
X-WR-CALNAME:General meeting calendar
X-WR-TIMEZONE:UTC
BEGIN:VEVENT
SUMMARY:CNDS/EGU Summer School on Natural Hazards in the Anthropocene
DTSTART;VALUE=DATE:20260824
DTEND;VALUE=DATE:20260829
DTSTAMP:20260421T201255Z
UID:general-meeting-calendar-2434@egu.eu
CATEGORIES:
CREATED:20260420T073107Z
DESCRIPTION:Abstract deadline: 2026-05-17
LAST-MODIFIED:20260420T074521Z
LOCATION:Uppsala\, Sweden
URL:https://www.cnds.se/w/cn/research/cnds-egu-summer-school
END:VEVENT
END:VCALENDAR
