BEGIN:VCALENDAR
VERSION:2.0
PRODID:-//egu.eu//Webinar calendar//EN
CALSCALE:GREGORIAN
METHOD:PUBLISH
X-WR-CALDESC:EGU webinars that may be of general interest.
X-WR-CALNAME:EGU webinar calendar
X-WR-TIMEZONE:UTC
BEGIN:VEVENT
SUMMARY:Funding opportunities: European Research Council grants
DTSTART:20201019T100000Z
DTSTAMP:20260423T082616Z
UID:egu-webinar-calendar-11@egu.eu
CATEGORIES:
CREATED:20200709T080851Z
DESCRIPTION:<p>The European Research Council (ERC) is a leading European f
 unding body supporting frontier research\, investigator-driven\, across al
 l fields of science. During this webinar\, the main features of ERC indivi
 dual grants will be presented\, with a special focus on the Earth System S
 ciences panel (PE10).</p>
LAST-MODIFIED:20251120T190346Z
LOCATION:online
URL:https://www.egu.eu/webinars/11/funding-opportunities-european-research
 -council-grants/
END:VEVENT
END:VCALENDAR
