BEGIN:VCALENDAR
VERSION:2.0
PRODID:-//egu.eu//Webinar calendar//EN
CALSCALE:GREGORIAN
METHOD:PUBLISH
X-WR-CALDESC:EGU webinars that may be of general interest.
X-WR-CALNAME:EGU webinar calendar
X-WR-TIMEZONE:UTC
BEGIN:VEVENT
SUMMARY:Uneven Ground: Addressing Vulnerabilities in Fieldwork
DTSTART:20250211T140000Z
DTSTAMP:20260423T080302Z
UID:egu-webinar-calendar-394@egu.eu
CATEGORIES:
CREATED:20250116T082820Z
DESCRIPTION:<p>There has been growing awareness of the discrimination and 
 challenges faced by geoscientists both within and beyond academia\, suppor
 ted by research findings and personal accounts. In this webinar\, invited 
 speakers from diverse backgrounds will share their research insights and p
 ersonal experiences. The webinar will focus on actionable strategies to cr
 eate safer\, more inclusive\, and supportive field environments\, ensuring
  that fieldwork is a positive and accessible experience for all.</p>
LAST-MODIFIED:20251120T190616Z
LOCATION:online
URL:https://www.egu.eu/webinars/394/uneven-ground-addressing-vulnerabiliti
 es-in-fieldwork/
END:VEVENT
END:VCALENDAR
