BEGIN:VCALENDAR
VERSION:2.0
PRODID:-//egu.eu//Webinar calendar//EN
CALSCALE:GREGORIAN
METHOD:PUBLISH
X-WR-CALDESC:EGU webinars that may be of general interest.
X-WR-CALNAME:EGU webinar calendar
X-WR-TIMEZONE:UTC
BEGIN:VEVENT
SUMMARY:HydroTalks: Ilja van Meerveld & Sara Blanco on citizen science\, C
 rowdWater & landscape processes
DTSTART:20250403T073212Z
DTSTAMP:20260423T230327Z
UID:egu-webinar-calendar-438@egu.eu
CATEGORIES:
CREATED:20250407T073222Z
DESCRIPTION:<p>Welcome to HydroTalks\, the new podcast series of the EGU H
 ydrological Sciences (HS) Division. Every month\, we interview experts abo
 ut the advancements\, challenges\, and opportunities in the field of hydro
 logy.</p><p>In the second episode of our HydroTalks podcast\, we sit down 
 with Ilja van Meerveld and Sara Blanco to talk about landscape processes a
 nd CrowdWater\, an exciting citizen science project.</p>
LAST-MODIFIED:20260304T114054Z
LOCATION:online
URL:https://www.egu.eu/webinars/438/hydrotalks-ilja-van-meerveld-sara-blan
 co-on-citizen-science-crowdwater-landscape-processes/
END:VEVENT
END:VCALENDAR
