BEGIN:VCALENDAR
VERSION:2.0
PRODID:-//egu.eu//Webinar calendar//EN
CALSCALE:GREGORIAN
METHOD:PUBLISH
X-WR-CALDESC:EGU webinars that may be of general interest.
X-WR-CALNAME:EGU webinar calendar
X-WR-TIMEZONE:UTC
BEGIN:VEVENT
SUMMARY:Geodesy Campfire - Share Your Research
DTSTART:20251023T140000Z
DTSTAMP:20260419T204617Z
UID:egu-webinar-calendar-558@egu.eu
CATEGORIES:
CREATED:20250918T083416Z
DESCRIPTION:<p>Welcome to the 13th Geodesy Campfire! During this Campfire\
 , we will listen to two exciting talks by Maciej Michalczak and Alex Lăp
 ădat. After the presentations we will have time for networking. </p><p>T
 itles of the talks are:</p><p>Maciej Michalczak@AGH University of Krakow: 
 Short-term prediction of Earth Rotation Parameters<br/>Alex Lăpădat@TU D
 elft\, Mathematical Geodesy and Positioning department: Integration of InS
 AR\, GNSS &amp\; Extensometers for in depth analysis of coastal subsidence
 . </p>
LAST-MODIFIED:20251120T185957Z
LOCATION:online
URL:https://www.egu.eu/webinars/558/geodesy-campfire-share-your-research/
END:VEVENT
END:VCALENDAR
