BEGIN:VCALENDAR
VERSION:2.0
PRODID:-//egu.eu//Webinar calendar//EN
CALSCALE:GREGORIAN
METHOD:PUBLISH
X-WR-CALDESC:EGU webinars that may be of general interest.
X-WR-CALNAME:EGU webinar calendar
X-WR-TIMEZONE:UTC
BEGIN:VEVENT
SUMMARY:GMPV + SSS Campfire – Mineralogy Meets Soil Science: Remediation
 \, Weathering Processes and Interactions
DTSTART:20251217T100000Z
DTSTAMP:20260424T031552Z
UID:egu-webinar-calendar-687@egu.eu
CATEGORIES:
CREATED:20251126T090129Z
DESCRIPTION:<p>Join this interdisciplinary seminar-style Campfire\, where 
 EGU's divisions on Soil System Sciences (SSS) and Geochemistry\, Mineralog
 y\, Petrology &amp\; Volcanology (GMPV) explore overlapping research betwe
 en the two communities. This edition will feature four talks:</p><p>Ewa St
 ępień (AGH University of Krakow) – Fluid-mineral mediated formation of
  mimetite Pb₅(AsO₄)₃Cl for efficient arsenate removal from water usi
 ng Pb-modified zeolite.<br/><br/>Błażej Cieślik (University of Wrocław
 ) – Nickel pathways during ex situ mineral carbonation of serpentinized 
 peridotites: implications\, advantages\, and challenges.<br/><br/>Xavier D
 upla (ETH Zurich) – Back to the future of Enhanced Rock Weathering: a li
 ttle agronomic journey in time.</p><p>Thiago Inagaki (Norwegian Institute 
 of Bioeconomy Research) – C-Persistence Across Scales: Leveraging Organo
 -Mineral Associations and Management to Build Climate-Resilient Soils.</p>
LAST-MODIFIED:20251126T091523Z
LOCATION:online
URL:https://www.egu.eu/webinars/687/gmpv-sss-campfire-mineralogy-meets-soi
 l-science-remediation-weathering-processes-and-interactions/
END:VEVENT
END:VCALENDAR
