BEGIN:VCALENDAR
VERSION:2.0
PRODID:-//egu.eu//Webinar calendar//EN
CALSCALE:GREGORIAN
METHOD:PUBLISH
X-WR-CALDESC:EGU webinars that may be of general interest.
X-WR-CALNAME:EGU webinar calendar
X-WR-TIMEZONE:UTC
BEGIN:VEVENT
SUMMARY:Climate of the Past 20th Anniversary: Past Volcanism and Climate
DTSTART:20260318T150000Z
DTEND:20260318T163000Z
DTSTAMP:20260421T201709Z
UID:egu-webinar-calendar-691@egu.eu
CATEGORIES:
CREATED:20260114T104744Z
DESCRIPTION:<p>Studying the response to past volcanic activity helps to qu
 antify the impact of short term forcing on global climate and to test the 
 ability of climate models to reproduce this impact. To address this topic\
 , we have selected two guest speakers:</p><p>Michael Sigl (University of O
 slo) - A Song of Ice and Fire – Volcanism\, Climate and Humans since the
  Last Ice Age</p><p>Lauren Marshall (University of St. Andrews) – Climat
 e modelling of volcanic eruptions using SO<sub>2</sub> emissions.</p><p>Th
 is webinar is part of a special series celebrating 20 years of Climate of 
 the Past\, an interactive journal of the European Geosciences Union. </p>
LAST-MODIFIED:20260325T144739Z
LOCATION:online
URL:https://www.egu.eu/webinars/691/climate-of-the-past-20th-anniversary-p
 ast-volcanism-and-climate/
END:VEVENT
END:VCALENDAR
