BEGIN:VCALENDAR
VERSION:2.0
PRODID:-//egu.eu//Webinar calendar//EN
CALSCALE:GREGORIAN
METHOD:PUBLISH
X-WR-CALDESC:EGU webinars that may be of general interest.
X-WR-CALNAME:EGU webinar calendar
X-WR-TIMEZONE:UTC
BEGIN:VEVENT
SUMMARY:Geodesy Campfire - Share Your Research
DTSTART:20260219T130000Z
DTEND:20260219T143000Z
DTSTAMP:20260420T035242Z
UID:egu-webinar-calendar-695@egu.eu
CATEGORIES:
CREATED:20260127T101400Z
DESCRIPTION:<p>The 16th Geodesy Campfire will host to two exciting talks b
 y Matthias Willen and Joshua Dreyer\, and features networking after the pr
 esentations.</p><p>Matthias Willen (TUD Dresden University of Technology) 
 - Chair of Geodetic Earth System Research: Measuring the mass balance of i
 ce sheets and solid-Earth deformation from space.<br/>Joshua Dreyer (Royal
  Observatory of Belgium) - Development of Global VTEC Maps at the Royal Ob
 servatory of Belgium: Applications for Space Weather and Long-Term Ionosph
 eric Trends.</p>
LAST-MODIFIED:20260127T101400Z
LOCATION:online
URL:https://www.egu.eu/webinars/695/geodesy-campfire-share-your-research/
END:VEVENT
END:VCALENDAR
