BEGIN:VCALENDAR
VERSION:2.0
PRODID:-//egu.eu//Webinar calendar//EN
CALSCALE:GREGORIAN
METHOD:PUBLISH
X-WR-CALDESC:EGU webinars that may be of general interest.
X-WR-CALNAME:EGU webinar calendar
X-WR-TIMEZONE:UTC
BEGIN:VEVENT
SUMMARY:Volcanoes Across Disciplines: From Magmatic Processes to Hazard Ma
 nagement
DTSTART:20260409T150000Z
DTEND:20260409T163000Z
DTSTAMP:20260424T085522Z
UID:egu-webinar-calendar-733@egu.eu
CATEGORIES:
CREATED:20260217T102129Z
DESCRIPTION:<p>In this seminar-style Campfire\, the volcano science commun
 ities of EGU come together to explore the continuum cassessment and risk m
 anagement. Organised by EGU's scientific divisions on Geochemistry\, Miner
 alogy\, Petrology &amp\; Volcanology and Natural Hazards\,  the event aim
 s to stimulate cross-disciplinary dialogue and inspire new collaborations 
 beyond traditional divisional boundaries.</p>
LAST-MODIFIED:20260401T091647Z
LOCATION:online
URL:https://www.egu.eu/webinars/733/volcanoes-across-disciplines-from-magm
 atic-processes-to-hazard-management/
END:VEVENT
END:VCALENDAR
