BEGIN:VCALENDAR
VERSION:2.0
PRODID:-//egu.eu//Webinar calendar//EN
CALSCALE:GREGORIAN
METHOD:PUBLISH
X-WR-CALDESC:EGU webinars that may be of general interest.
X-WR-CALNAME:EGU webinar calendar
X-WR-TIMEZONE:UTC
BEGIN:VEVENT
SUMMARY:Empowering Individuals to Become Active Bystanders
DTSTART:20260423T120000Z
DTEND:20260423T140000Z
DTSTAMP:20260423T170017Z
UID:egu-webinar-calendar-744@egu.eu
CATEGORIES:
CREATED:20260402T080446Z
DESCRIPTION:<p>Learn how to safely and effectively intervene on behalf of 
 others to improve workplace climate.</p>
LAST-MODIFIED:20260402T151815Z
LOCATION:online
URL:https://www.egu.eu/webinars/744/empowering-individuals-to-become-activ
 e-bystanders/
END:VEVENT
END:VCALENDAR
