BEGIN:VCALENDAR
VERSION:2.0
PRODID:-//egu.eu//Webinar calendar//EN
CALSCALE:GREGORIAN
METHOD:PUBLISH
X-WR-CALDESC:EGU webinars that may be of general interest.
X-WR-CALNAME:EGU webinar calendar
X-WR-TIMEZONE:UTC
BEGIN:VEVENT
SUMMARY:How To Measure The Earth - An Introduction To Geodesy
DTSTART:20221122T150000Z
DTSTAMP:20260425T002245Z
UID:egu-webinar-calendar-99@egu.eu
CATEGORIES:
CREATED:20221018T080958Z
DESCRIPTION:<p>Geodesy is a research field that studies the shape and loca
 tion of the Earth in both time and space\, drawing upon a multitude of geo
 scientific disciplines to do so. In this special webinar\, three early car
 eer scientists of the Geodesy division will give you an introduction about
  Geodesy\, touching on different measurement techniques for obtaining data
  on everything from plate tectonics to glacial isostatic adjustment. The w
 ebinar will conclude with an audience Q&amp\;A\, so come prepped with your
  own questions!</p>
LAST-MODIFIED:20240313T110639Z
LOCATION:online
URL:https://www.egu.eu/webinars/99/how-to-measure-the-earth-an-introductio
 n-to-geodesy/
END:VEVENT
END:VCALENDAR
